BEGIN:VCALENDAR
VERSION:2.0
PRODID:jazz-concerts.com
METHOD:PUBLISH
SEQUENCE:1776603203
BEGIN:VEVENT
UID:jazz-concerts.com-8-1187
DTSTAMP:20260419T145323
DTSTART:20260712T000000
DTEND:20260718T000000
SUMMARY:Traditional Jazz-Workshop
LOCATION: Lenk im Simmental\, Switzerland
DESCRIPTION:info: https://jazz-concerts.com/en/workshop/1187\nwebsite: https://lenk-simmental.ch/erlebnisse-touren/erlebnis/detail/traditional-jazz-workshop-lenk\n\nTraditional Jazz-Workshop\n\n
END:VEVENT
END:VCALENDAR
