BEGIN:VCALENDAR
VERSION:2.0
PRODID:jazz-concerts.com
METHOD:PUBLISH
SEQUENCE:1776776703
BEGIN:VEVENT
UID:jazz-concerts.com-8-1194
DTSTAMP:20260421T150503
DTSTART:20260720T000000
DTEND:20260724T000000
SUMMARY:Popfactory
LOCATION: Saint Pölten\, Austria
DESCRIPTION:info: https://jazz-concerts.com/en/workshop/1194\nwebsite: https://www.popfactory.at\n\nPopfactory\n\n
END:VEVENT
END:VCALENDAR
