BEGIN:VCALENDAR
VERSION:2.0
PRODID:jazz-concerts.com
METHOD:PUBLISH
SEQUENCE:1776619709
BEGIN:VEVENT
UID:jazz-concerts.com-8-1190
DTSTAMP:20260419T192829
DTSTART:20260812T000000
DTEND:20260814T000000
SUMMARY:L’atelier JAZZ NEW ORLEANS
LOCATION: Sion\, Switzerland
DESCRIPTION:info: https://jazz-concerts.com/en/workshop/1190\nwebsite: https://sionjazz.ch/atelier/\n\nL’atelier JAZZ NEW ORLEANS\n\n
END:VEVENT
END:VCALENDAR
