BEGIN:VCALENDAR
VERSION:2.0
PRODID:jazz-concerts.com
METHOD:PUBLISH
SEQUENCE:1776631212
BEGIN:VEVENT
UID:jazz-concerts.com-8-1189
DTSTAMP:20260419T224012
DTSTART:20260720T000000
DTEND:20260726T000000
SUMMARY:Junior Jazz Workshop
LOCATION: Langnau im Emmental\, Switzerland
DESCRIPTION:info: https://jazz-concerts.com/en/workshop/1189\nwebsite: https://www.jazz-nights.ch/jazz-workshops/jazz-workshop.html\n\nJunior Jazz Workshop\n\n
END:VEVENT
END:VCALENDAR
