BEGIN:VCALENDAR
VERSION:2.0
PRODID:jazz-concerts.com
METHOD:PUBLISH
SEQUENCE:1776637306
BEGIN:VEVENT
UID:jazz-concerts.com-8-1176
DTSTAMP:20260420T002146
DTSTART:20260712T000000
DTEND:20260718T000000
SUMMARY:Jazz au vert
LOCATION: Yvoir\, Belgium
DESCRIPTION:info: https://jazz-concerts.com/en/workshop/1176\nwebsite: https://www.leslundisdhortense.be/activites/le-stage-jazz-au-vert/\n\nJazz au vert\n\n
END:VEVENT
END:VCALENDAR
