BEGIN:VCALENDAR
VERSION:2.0
PRODID:jazz-concerts.com
METHOD:PUBLISH
SEQUENCE:1776628691
BEGIN:VEVENT
UID:jazz-concerts.com-8-1136
DTSTAMP:20260419T215811
DTSTART:20261009T000000
DTEND:20261011T000000
SUMMARY:Jazz-Saxophon-Workshop
LOCATION:Kolping-Bildungsstätte Coesfeld GmbH Gerlever Weg 1\, 48653 Coesfeld\, Germany
DESCRIPTION:info: https://jazz-concerts.com/en/workshop/1136\nwebsite: https://www.kolping-bildungsstaette-coesfeld.de/kbc/veranstaltungen/termine/Musik-jazz-saxophon-workshop-2026-10.php\n\nJazz-Saxophon-Workshop\n\n
END:VEVENT
END:VCALENDAR
