BEGIN:VCALENDAR
VERSION:2.0
PRODID:jazz-concerts.com
METHOD:PUBLISH
SEQUENCE:1776633084
BEGIN:VEVENT
UID:jazz-concerts.com-8-1135
DTSTAMP:20260419T231124
DTSTART:20261009T000000
DTEND:20261011T000000
SUMMARY:Jazz-Improvisation für Gitarrist*innen
LOCATION:Kolping-Bildungsstätte Coesfeld GmbH Gerlever Weg 1\, 48653 Coesfeld\, Germany
DESCRIPTION:info: https://jazz-concerts.com/en/workshop/1135\nwebsite: https://www.kolping-bildungsstaette-coesfeld.de/kbc/veranstaltungen/termine/Musik-Jazz-Improvisation-fuer-Gitarristen-2026-10.php\n\nJazz-Improvisation für Gitarrist*innen\n\n
END:VEVENT
END:VCALENDAR
