BEGIN:VCALENDAR
VERSION:2.0
PRODID:jazz-concerts.com
METHOD:PUBLISH
SEQUENCE:1776631213
BEGIN:VEVENT
UID:jazz-concerts.com-8-1191
DTSTAMP:20260419T224013
DTSTART:20261102T000000
DTEND:20261108T000000
SUMMARY:International Classic Jazz Workshop
LOCATION:Jazz Hôtel Ascona Viale Monte Verità 25\, 6612 Ascona\, Switzerland
DESCRIPTION:info: https://jazz-concerts.com/en/workshop/1191\nwebsite: https://frankroberscheuten.com\n\nInternational Classic Jazz Workshop\n\n
END:VEVENT
END:VCALENDAR
