BEGIN:VCALENDAR
VERSION:2.0
PRODID:jazz-concerts.com
METHOD:PUBLISH
SEQUENCE:1776619700
BEGIN:VEVENT
UID:jazz-concerts.com-8-1188
DTSTAMP:20260419T192820
DTSTART:20260719T000000
DTEND:20260724T000000
SUMMARY:Gospelworkshop Lenk
LOCATION: Lenk im Simmental\, Switzerland
DESCRIPTION:info: https://jazz-concerts.com/en/workshop/1188\nwebsite: https://lenk-simmental.ch/erlebnisse/gospel-workshop/\n\nGospelworkshop Lenk\n\n
END:VEVENT
END:VCALENDAR
