BEGIN:VCALENDAR
VERSION:2.0
PRODID:jazz-concerts.com
METHOD:PUBLISH
SEQUENCE:1776802467
BEGIN:VEVENT
UID:jazz-concerts.com-4-1155
DTSTAMP:20260421T221427
DTSTART:20260319T000000
DTEND:20260329T000000
SUMMARY:Boscov's Berks Jazz Festival
LOCATION:
DESCRIPTION:Boscov's Berks Jazz Festival\nThe annual Boscov’s Berks Jazz Fest is presented by Berks Arts\, a nonprofit organization located in Reading\, PA. Berks Jazz Fest brings world-renowned jazz musicians to Berks County with dozens of concerts at various venues in the Greater Reading area. Additionally\, dozens of free live music events featuring local and regional musicians occur in area clubs and restaurants throughout the festival.
Since 1991\, jazz enthusiasts have flocked to the Berks Jazz Fest to enjoy over 130 free and ticketed musical events spanning the entire spectrum of Jazz\, Blues\, Funk\, Soul\, R&B\, and more.
The festival provides performance opportunities for emerging and established artists alike and showcases incredible and diverse talent to fans from all over the world.\n
END:VEVENT
END:VCALENDAR
