BEGIN:VCALENDAR
VERSION:2.0
PRODID:jazz-concerts.com
METHOD:PUBLISH
SEQUENCE:1777147946
BEGIN:VEVENT
UID:jazz-concerts.com-1-43666
DTSTAMP:20260425T221226
DTSTART:20260523T193000
DTEND:20260523T213000
SUMMARY:Casa del Jazz Orchestra\, Benny Goodman
LOCATION:Casa del Jazz Viale di Porta Ardeatina 55\, 00154 Roma\, Italy
DESCRIPTION:tickets: https://jazz-concerts.com/en/event/43666\n\nCasa del Jazz Orchestra\, Benny Goodman\n\n
END:VEVENT
END:VCALENDAR
