BEGIN:VCALENDAR
VERSION:2.0
PRODID:jazz-concerts.com
METHOD:PUBLISH
SEQUENCE:1777065608
BEGIN:VEVENT
UID:jazz-concerts.com-1-43569
DTSTAMP:20260424T232008
DTSTART:20260701T210000
DTEND:20260701T230000
SUMMARY:Laco Deczi Celula New York
LOCATION:Jazz Dock Janáčkovo nábřeží 3249/2\, 150 00 Hlavní město Praha\, Czechia
DESCRIPTION:tickets: https://jazz-concerts.com/en/event/43569\n\nLaco Deczi Celula New York\n\n
END:VEVENT
END:VCALENDAR
