BEGIN:VCALENDAR
VERSION:2.0
PRODID:jazz-concerts.com
METHOD:PUBLISH
SEQUENCE:1777065609
BEGIN:VEVENT
UID:jazz-concerts.com-1-43567
DTSTAMP:20260424T232009
DTSTART:20260626T220000
DTEND:20260627T000000
SUMMARY:Jonathan Ramirez & Skeptemistic
LOCATION:Jazz Dock Janáčkovo nábřeží 3249/2\, 150 00 Hlavní město Praha\, Czechia
DESCRIPTION:tickets: https://jazz-concerts.com/en/event/43567\n\nJonathan Ramirez & Skeptemistic\n\n
END:VEVENT
END:VCALENDAR
