BEGIN:VCALENDAR
VERSION:2.0
PRODID:jazz-concerts.com
METHOD:PUBLISH
SEQUENCE:1777065673
BEGIN:VEVENT
UID:jazz-concerts.com-1-43558
DTSTAMP:20260424T232113
DTSTART:20260512T210000
DTEND:20260512T230000
SUMMARY:Aaron Parks Little Big
LOCATION:Jazz Dock Janáčkovo nábřeží 3249/2\, 150 00 Hlavní město Praha\, Czechia
DESCRIPTION:tickets: https://jazz-concerts.com/en/event/43558\n\nAaron Parks Little Big\n\n
END:VEVENT
END:VCALENDAR
