BEGIN:VCALENDAR
VERSION:2.0
PRODID:jazz-concerts.com
METHOD:PUBLISH
SEQUENCE:1777152787
BEGIN:VEVENT
UID:jazz-concerts.com-1-43505
DTSTAMP:20260425T233307
DTSTART:20260721T213000
DTEND:20260721T233000
SUMMARY:Marcus Miller - We Want Miles
LOCATION:Piazza Napoleone Piazza Napoleone\, 55100 Lucca\, Italy
DESCRIPTION:tickets: https://jazz-concerts.com/en/event/43505\n\nMarcus Miller - We Want Miles\n\n
END:VEVENT
END:VCALENDAR
