BEGIN:VCALENDAR
VERSION:2.0
PRODID:jazz-concerts.com
METHOD:PUBLISH
SEQUENCE:1777053259
BEGIN:VEVENT
UID:jazz-concerts.com-1-43497
DTSTAMP:20260424T195419
DTSTART:20260523T193000
DTEND:20260523T213000
SUMMARY:Marcus Miller - We Want Miles
LOCATION:The Birchmere Mount Vernon Avenue 3701\, 22305 Alexandria\, United States
DESCRIPTION:tickets: https://jazz-concerts.com/en/event/43497\n\nMarcus Miller - We Want Miles\nBuy and sell Marcus Miller Tickets for May 22 at Birchmere Music Hall in Alexandria\, Virginia at StubHub! Tickets are 100% guaranteed by FanProtect\n
END:VEVENT
END:VCALENDAR
