BEGIN:VCALENDAR
VERSION:2.0
PRODID:jazz-concerts.com
METHOD:PUBLISH
SEQUENCE:1777152787
BEGIN:VEVENT
UID:jazz-concerts.com-1-43495
DTSTAMP:20260425T233307
DTSTART:20260715T213000
DTEND:20260715T233000
SUMMARY:Marcus Miller - We Want Miles
LOCATION:Castello di Torrate Via Udine 5\, 33083 Friuli-Venezia Giulia\, Italy
DESCRIPTION:tickets: https://jazz-concerts.com/en/event/43495\n\nMarcus Miller - We Want Miles\n\n
END:VEVENT
END:VCALENDAR
