BEGIN:VCALENDAR
VERSION:2.0
PRODID:jazz-concerts.com
METHOD:PUBLISH
SEQUENCE:1777071937
BEGIN:VEVENT
UID:jazz-concerts.com-1-43488
DTSTAMP:20260425T010537
DTSTART:20261025T170000
DTEND:20261025T190000
SUMMARY:John Scofield Electrospective
LOCATION:City Winery Atlanta North Avenue Northeast 650\, 30308 Atlanta\, United States
DESCRIPTION:tickets: https://jazz-concerts.com/en/event/43488\n\nJohn Scofield Electrospective\n\n
END:VEVENT
END:VCALENDAR
