BEGIN:VCALENDAR
VERSION:2.0
PRODID:jazz-concerts.com
METHOD:PUBLISH
SEQUENCE:1777071930
BEGIN:VEVENT
UID:jazz-concerts.com-1-43477
DTSTAMP:20260425T010530
DTSTART:20261027T213000
DTEND:20261027T233000
SUMMARY:John Scofield Electrospective
LOCATION:Belly Up Tavern South Cedros Avenue 143\, 92075 Solana Beach\, United States
DESCRIPTION:tickets: https://jazz-concerts.com/en/event/43477\n\nJohn Scofield Electrospective\n\n
END:VEVENT
END:VCALENDAR
