BEGIN:VCALENDAR
VERSION:2.0
PRODID:jazz-concerts.com
METHOD:PUBLISH
SEQUENCE:1777071929
BEGIN:VEVENT
UID:jazz-concerts.com-1-43475
DTSTAMP:20260425T010529
DTSTART:20261018T200000
DTEND:20261018T220000
SUMMARY:John Scofield Electrospective
LOCATION:Thalia Hall South Allport Street 1807\, 60608 Chicago\, United States
DESCRIPTION:tickets: https://jazz-concerts.com/en/event/43475\n\nJohn Scofield Electrospective\nThrough his 54-year career\, 3-time Grammy Award winner John Scofield has occasionally detoured from the traditions of straight-ahead jazz\, exploring a blend of funk and jazz that has led to some of his most popular projects. In late autumn of 2026\, Scofield looks back at many of his now classic fusion groove compositions with Electrospective. Not intending to replicate the earlier fan favorites\, he plans instead to revisit them with the seasoned perspective of several decades\; culling tunes from his Blue Matter\, Uberjam\, and AGoGo bands – each responsible for a few recordings – as well as new material in the same vein. Scofield looks forward to teaming up with a stellar band of colleagues\, Electrospective will rely on interpretative input from Scofield alum and super funk drummer/producer Adam Deitch (Lettuce)\, multidimensional Larry Goldings (Scary Goldings\, James Taylor) on keyboards\, and legendary bassist Oteil Burbridge (Dead & CO.\, Tedeschi Trucks\, Allman Brothers). With this repertoire so frequently (and loudly) requested by audience members\, Scofield is glad to have a band that will truly do the music justice.\n
END:VEVENT
END:VCALENDAR
