BEGIN:VCALENDAR
VERSION:2.0
PRODID:jazz-concerts.com
METHOD:PUBLISH
SEQUENCE:1777144552
BEGIN:VEVENT
UID:jazz-concerts.com-1-43469
DTSTAMP:20260425T211552
DTSTART:20260508T200000
DTEND:20260508T220000
SUMMARY:John Scofield & Gerald Clayton
LOCATION:Neumünster Neumünsterstrasse 10\, 8008 Zürich\, Switzerland
DESCRIPTION:tickets: https://jazz-concerts.com/en/event/43469\n\nJohn Scofield & Gerald Clayton\n\n
END:VEVENT
END:VCALENDAR
