BEGIN:VCALENDAR
VERSION:2.0
PRODID:jazz-concerts.com
METHOD:PUBLISH
SEQUENCE:1777053288
BEGIN:VEVENT
UID:jazz-concerts.com-1-43426
DTSTAMP:20260424T195448
DTSTART:20260528T190000
DTEND:20260528T210000
SUMMARY:Tinariwen
LOCATION:Rockefeller Oslo Mariboes gate 5B\, 0183 Oslo\, Norway
DESCRIPTION:tickets: https://jazz-concerts.com/en/event/43426\n\nTinariwen\n\n
END:VEVENT
END:VCALENDAR
