BEGIN:VCALENDAR
VERSION:2.0
PRODID:jazz-concerts.com
METHOD:PUBLISH
SEQUENCE:1776879927
BEGIN:VEVENT
UID:jazz-concerts.com-1-43414
DTSTAMP:20260422T194527
DTSTART:20260620T190000
DTEND:20260620T210000
SUMMARY:Houston Person Quintet
LOCATION:Jazz Forum Dixon Lane 1\, 10591 Tarrytown\, United States
DESCRIPTION:tickets: https://jazz-concerts.com/en/event/43414\n\nHouston Person Quintet\n\n
END:VEVENT
END:VCALENDAR
