BEGIN:VCALENDAR
VERSION:2.0
PRODID:jazz-concerts.com
METHOD:PUBLISH
SEQUENCE:1777053230
BEGIN:VEVENT
UID:jazz-concerts.com-1-43392
DTSTAMP:20260424T195350
DTSTART:20260524T160000
DTEND:20260524T180000
SUMMARY:Gili Lopes Quartet
LOCATION:Jazz Forum Dixon Lane 1\, 10591 Tarrytown\, United States
DESCRIPTION:tickets: https://jazz-concerts.com/en/event/43392\n\nGili Lopes Quartet\n\n
END:VEVENT
END:VCALENDAR
