BEGIN:VCALENDAR
VERSION:2.0
PRODID:jazz-concerts.com
METHOD:PUBLISH
SEQUENCE:1776890879
BEGIN:VEVENT
UID:jazz-concerts.com-1-43383
DTSTAMP:20260422T224759
DTSTART:20260515T213000
DTEND:20260515T233000
SUMMARY:Paul Winter & Henrique Eisenmann
LOCATION:Jazz Forum Dixon Lane 1\, 10591 Tarrytown\, United States
DESCRIPTION:tickets: https://jazz-concerts.com/en/event/43383\n\nPaul Winter & Henrique Eisenmann\n\n
END:VEVENT
END:VCALENDAR
