BEGIN:VCALENDAR
VERSION:2.0
PRODID:jazz-concerts.com
METHOD:PUBLISH
SEQUENCE:1776890875
BEGIN:VEVENT
UID:jazz-concerts.com-1-43382
DTSTAMP:20260422T224755
DTSTART:20260515T190000
DTEND:20260515T210000
SUMMARY:Paul Winter & Henrique Eisenmann
LOCATION:Jazz Forum Dixon Lane 1\, 10591 Tarrytown\, United States
DESCRIPTION:tickets: https://jazz-concerts.com/en/event/43382\n\nPaul Winter & Henrique Eisenmann\n\n
END:VEVENT
END:VCALENDAR
