BEGIN:VCALENDAR
VERSION:2.0
PRODID:jazz-concerts.com
METHOD:PUBLISH
SEQUENCE:1776890961
BEGIN:VEVENT
UID:jazz-concerts.com-1-43381
DTSTAMP:20260422T224921
DTSTART:20260510T180000
DTEND:20260510T200000
SUMMARY:Mar Vilaseca Quartet
LOCATION:Jazz Forum Dixon Lane 1\, 10591 Tarrytown\, United States
DESCRIPTION:tickets: https://jazz-concerts.com/en/event/43381\n\nMar Vilaseca Quartet\n\n
END:VEVENT
END:VCALENDAR
