BEGIN:VCALENDAR
VERSION:2.0
PRODID:jazz-concerts.com
METHOD:PUBLISH
SEQUENCE:1776890875
BEGIN:VEVENT
UID:jazz-concerts.com-1-43380
DTSTAMP:20260422T224755
DTSTART:20260510T160000
DTEND:20260510T180000
SUMMARY:Mar Vilaseca Quartet
LOCATION:Jazz Forum Dixon Lane 1\, 10591 Tarrytown\, United States
DESCRIPTION:tickets: https://jazz-concerts.com/en/event/43380\n\nMar Vilaseca Quartet\n\n
END:VEVENT
END:VCALENDAR
