BEGIN:VCALENDAR
VERSION:2.0
PRODID:jazz-concerts.com
METHOD:PUBLISH
SEQUENCE:1776890864
BEGIN:VEVENT
UID:jazz-concerts.com-1-43376
DTSTAMP:20260422T224744
DTSTART:20260508T190000
DTEND:20260508T210000
SUMMARY:Vincent Herring / Eric Alexander Quintet
LOCATION:Jazz Forum Dixon Lane 1\, 10591 Tarrytown\, United States
DESCRIPTION:tickets: https://jazz-concerts.com/en/event/43376\n\nVincent Herring / Eric Alexander Quintet\n\n
END:VEVENT
END:VCALENDAR
