BEGIN:VCALENDAR
VERSION:2.0
PRODID:jazz-concerts.com
METHOD:PUBLISH
SEQUENCE:1776890874
BEGIN:VEVENT
UID:jazz-concerts.com-1-43375
DTSTAMP:20260422T224754
DTSTART:20260503T180000
DTEND:20260503T200000
SUMMARY:Arthur Lipner Quartet
LOCATION:Jazz Forum Dixon Lane 1\, 10591 Tarrytown\, United States
DESCRIPTION:tickets: https://jazz-concerts.com/en/event/43375\n\nArthur Lipner Quartet\n\n
END:VEVENT
END:VCALENDAR
