BEGIN:VCALENDAR
VERSION:2.0
PRODID:jazz-concerts.com
METHOD:PUBLISH
SEQUENCE:1776890879
BEGIN:VEVENT
UID:jazz-concerts.com-1-43374
DTSTAMP:20260422T224759
DTSTART:20260503T160000
DTEND:20260503T180000
SUMMARY:Arthur Lipner Quartet
LOCATION:Jazz Forum Dixon Lane 1\, 10591 Tarrytown\, United States
DESCRIPTION:tickets: https://jazz-concerts.com/en/event/43374\n\nArthur Lipner Quartet\n\n
END:VEVENT
END:VCALENDAR
