BEGIN:VCALENDAR
VERSION:2.0
PRODID:jazz-concerts.com
METHOD:PUBLISH
SEQUENCE:1776806353
BEGIN:VEVENT
UID:jazz-concerts.com-1-43365
DTSTAMP:20260421T231913
DTSTART:20260613T190000
DTEND:20260613T210000
SUMMARY:Lakecia Benjamin
LOCATION:Domaine de Sceaux\, parc et musée départementaux Avenue Claude Perrault 8\, 92330 Sceaux\, France
DESCRIPTION:tickets: https://jazz-concerts.com/en/event/43365\n\nLakecia Benjamin\n\n
END:VEVENT
END:VCALENDAR
