BEGIN:VCALENDAR
VERSION:2.0
PRODID:jazz-concerts.com
METHOD:PUBLISH
SEQUENCE:1776806352
BEGIN:VEVENT
UID:jazz-concerts.com-1-43361
DTSTAMP:20260421T231912
DTSTART:20260611T190000
DTEND:20260611T210000
SUMMARY:Lea Maria Fries & Band
LOCATION:Domaine de Sceaux\, parc et musée départementaux Avenue Claude Perrault 8\, 92330 Sceaux\, France
DESCRIPTION:tickets: https://jazz-concerts.com/en/event/43361\n\nLea Maria Fries & Band\n\n
END:VEVENT
END:VCALENDAR
