BEGIN:VCALENDAR
VERSION:2.0
PRODID:jazz-concerts.com
METHOD:PUBLISH
SEQUENCE:1776783339
BEGIN:VEVENT
UID:jazz-concerts.com-1-43346
DTSTAMP:20260421T165539
DTSTART:20260607T210000
DTEND:20260607T230000
SUMMARY:Rolf Zielke Trio
LOCATION:B-flat Acoustic Music & Jazz Club Dircksenstraße 40\, 10178 Berlin\, Germany
DESCRIPTION:tickets: https://jazz-concerts.com/en/event/43346\n\nRolf Zielke Trio\n\n
END:VEVENT
END:VCALENDAR
