BEGIN:VCALENDAR
VERSION:2.0
PRODID:jazz-concerts.com
METHOD:PUBLISH
SEQUENCE:1776782089
BEGIN:VEVENT
UID:jazz-concerts.com-1-43343
DTSTAMP:20260421T163449
DTSTART:20260515T211500
DTEND:20260515T231500
SUMMARY:John Scofield & Gerald Clayton
LOCATION:Ronnie Scott's Frith Street 47\, W1D 4HT London\, United Kingdom
DESCRIPTION:tickets: https://jazz-concerts.com/en/event/43343\n\nJohn Scofield & Gerald Clayton\n\n
END:VEVENT
END:VCALENDAR
