BEGIN:VCALENDAR
VERSION:2.0
PRODID:jazz-concerts.com
METHOD:PUBLISH
SEQUENCE:1776744151
BEGIN:VEVENT
UID:jazz-concerts.com-1-43332
DTSTAMP:20260421T060231
DTSTART:20260509T184000
DTEND:20260509T204000
SUMMARY:Vanessa Haynes presents Aretha Franklin - Queen of Soul
LOCATION:Ronnie Scott's Frith Street 47\, W1D 4HT London\, United Kingdom
DESCRIPTION:tickets: https://jazz-concerts.com/en/event/43332\n\nVanessa Haynes presents Aretha Franklin - Queen of Soul\n\n
END:VEVENT
END:VCALENDAR
