BEGIN:VCALENDAR
VERSION:2.0
PRODID:jazz-concerts.com
METHOD:PUBLISH
SEQUENCE:1776718833
BEGIN:VEVENT
UID:jazz-concerts.com-1-43330
DTSTAMP:20260420T230033
DTSTART:20260510T190000
DTEND:20260510T210000
SUMMARY:Konzert des Jost Ziegner Jazz Trios - Jazz and Wine
LOCATION:Erlöserkirche Westfeldstraße 81\, 58453 Witten\, Germany
DESCRIPTION:tickets: https://jazz-concerts.com/en/event/43330\n\nKonzert des Jost Ziegner Jazz Trios - Jazz and Wine\nDas Jost Ziegner Jazz Trio spielt lebendige Jazzmusik mit Samba und Bossa Nova Rhythmen. Erleben Sie mitreißende Grooves und eingängige Melodien und genießen dazu ein Glas Wein\n\n
END:VEVENT
END:VCALENDAR
