BEGIN:VCALENDAR
VERSION:2.0
PRODID:jazz-concerts.com
METHOD:PUBLISH
SEQUENCE:1776728061
BEGIN:VEVENT
UID:jazz-concerts.com-1-43320
DTSTAMP:20260421T013421
DTSTART:20260504T184000
DTEND:20260504T204000
SUMMARY:Lady Blackbird
LOCATION:Ronnie Scott's Frith Street 47\, W1D 4HT London\, United Kingdom
DESCRIPTION:tickets: https://jazz-concerts.com/en/event/43320\n\nLady Blackbird\n\n
END:VEVENT
END:VCALENDAR
