BEGIN:VCALENDAR
VERSION:2.0
PRODID:jazz-concerts.com
METHOD:PUBLISH
SEQUENCE:1776702171
BEGIN:VEVENT
UID:jazz-concerts.com-1-43319
DTSTAMP:20260420T182251
DTSTART:20260503T130000
DTEND:20260503T150000
SUMMARY:Emma Smith: Live Album Recording
LOCATION:Ronnie Scott's Frith Street 47\, W1D 4HT London\, United Kingdom
DESCRIPTION:tickets: https://jazz-concerts.com/en/event/43319\n\nEmma Smith: Live Album Recording\n\n
END:VEVENT
END:VCALENDAR
