BEGIN:VCALENDAR
VERSION:2.0
PRODID:jazz-concerts.com
METHOD:PUBLISH
SEQUENCE:1776725362
BEGIN:VEVENT
UID:jazz-concerts.com-1-43305
DTSTAMP:20260421T004922
DTSTART:20260430T182000
DTEND:20260430T202000
SUMMARY:Vanessa Haynes Quintet
LOCATION:Ronnie Scott's Frith Street 47\, W1D 4HT London\, United Kingdom
DESCRIPTION:tickets: https://jazz-concerts.com/en/event/43305\n\nVanessa Haynes Quintet\n\n
END:VEVENT
END:VCALENDAR
