BEGIN:VCALENDAR
VERSION:2.0
PRODID:jazz-concerts.com
METHOD:PUBLISH
SEQUENCE:1776723261
BEGIN:VEVENT
UID:jazz-concerts.com-1-43295
DTSTAMP:20260421T001421
DTSTART:20260425T211500
DTEND:20260425T231500
SUMMARY:Bobby Watson Quartet
LOCATION:Ronnie Scott's Frith Street 47\, W1D 4HT London\, United Kingdom
DESCRIPTION:tickets: https://jazz-concerts.com/en/event/43295\n\nBobby Watson Quartet\n\n
END:VEVENT
END:VCALENDAR
