BEGIN:VCALENDAR
VERSION:2.0
PRODID:jazz-concerts.com
METHOD:PUBLISH
SEQUENCE:1776718851
BEGIN:VEVENT
UID:jazz-concerts.com-1-43293
DTSTAMP:20260420T230051
DTSTART:20260423T204500
DTEND:20260423T224500
SUMMARY:Matyas Gayer Trio
LOCATION:Ronnie Scott's Frith Street 47\, W1D 4HT London\, United Kingdom
DESCRIPTION:tickets: https://jazz-concerts.com/en/event/43293\n\nMatyas Gayer Trio\n\n
END:VEVENT
END:VCALENDAR
