BEGIN:VCALENDAR
VERSION:2.0
PRODID:jazz-concerts.com
METHOD:PUBLISH
SEQUENCE:1776714624
BEGIN:VEVENT
UID:jazz-concerts.com-1-43291
DTSTAMP:20260420T215024
DTSTART:20260423T170000
DTEND:20260423T190000
SUMMARY:Nishla Smith Quintet
LOCATION:Ronnie Scott's Frith Street 47\, W1D 4HT London\, United Kingdom
DESCRIPTION:tickets: https://jazz-concerts.com/en/event/43291\n\nNishla Smith Quintet\n\n
END:VEVENT
END:VCALENDAR
