BEGIN:VCALENDAR
VERSION:2.0
PRODID:jazz-concerts.com
METHOD:PUBLISH
SEQUENCE:1776692165
BEGIN:VEVENT
UID:jazz-concerts.com-1-43282
DTSTAMP:20260420T153605
DTSTART:20261114T190000
DTEND:20261114T210000
SUMMARY:Rebekka Bakken
LOCATION:Stadthalle Biberach Theaterstraße 4-8\, 88400 Biberach an der Riß\, Germany
DESCRIPTION:tickets: https://jazz-concerts.com/en/event/43282\n\nRebekka Bakken\n\n
END:VEVENT
END:VCALENDAR
