BEGIN:VCALENDAR
VERSION:2.0
PRODID:jazz-concerts.com
METHOD:PUBLISH
SEQUENCE:1776650439
BEGIN:VEVENT
UID:jazz-concerts.com-1-43268
DTSTAMP:20260420T040039
DTSTART:20260503T220000
DTEND:20260504T000000
SUMMARY:Judith Owen presents 'Suit Yourself'
LOCATION:Snug Harbor Jazz Bistro Frenchmen Street 626\, 70116 New Orleans\, United States
DESCRIPTION:tickets: https://jazz-concerts.com/en/event/43268\n\nJudith Owen presents 'Suit Yourself'\n\n
END:VEVENT
END:VCALENDAR
