BEGIN:VCALENDAR
VERSION:2.0
PRODID:jazz-concerts.com
METHOD:PUBLISH
SEQUENCE:1776635532
BEGIN:VEVENT
UID:jazz-concerts.com-1-43064
DTSTAMP:20260419T235212
DTSTART:20260617T203000
DTEND:20260617T223000
SUMMARY:Makaya McCraven
LOCATION:Blue Note Tokyo 107-0062 Minato City\, Japan
DESCRIPTION:tickets: https://jazz-concerts.com/en/event/43064\n\nMakaya McCraven\n\n
END:VEVENT
END:VCALENDAR
