BEGIN:VCALENDAR
VERSION:2.0
PRODID:jazz-concerts.com
METHOD:PUBLISH
SEQUENCE:1776618511
BEGIN:VEVENT
UID:jazz-concerts.com-1-43060
DTSTAMP:20260419T190831
DTSTART:20260615T203000
DTEND:20260615T223000
SUMMARY:Veronica Swift
LOCATION:Blue Note Tokyo 107-0062 Minato City\, Japan
DESCRIPTION:tickets: https://jazz-concerts.com/en/event/43060\n\nVeronica Swift\n\n
END:VEVENT
END:VCALENDAR
