BEGIN:VCALENDAR
VERSION:2.0
PRODID:jazz-concerts.com
METHOD:PUBLISH
SEQUENCE:1776640609
BEGIN:VEVENT
UID:jazz-concerts.com-1-43031
DTSTAMP:20260420T011649
DTSTART:20260528T203000
DTEND:20260528T223000
SUMMARY:Cory Henry & The Funk Apostels
LOCATION:Blue Note Tokyo 107-0062 Minato City\, Japan
DESCRIPTION:tickets: https://jazz-concerts.com/en/event/43031\n\nCory Henry & The Funk Apostels\n\n
END:VEVENT
END:VCALENDAR
