BEGIN:VCALENDAR
VERSION:2.0
PRODID:jazz-concerts.com
METHOD:PUBLISH
SEQUENCE:1776614094
BEGIN:VEVENT
UID:jazz-concerts.com-1-43030
DTSTAMP:20260419T175454
DTSTART:20260528T180000
DTEND:20260528T200000
SUMMARY:Cory Henry & The Funk Apostels
LOCATION:Blue Note Tokyo 107-0062 Minato City\, Japan
DESCRIPTION:tickets: https://jazz-concerts.com/en/event/43030\n\nCory Henry & The Funk Apostels\n\n
END:VEVENT
END:VCALENDAR
