BEGIN:VCALENDAR
VERSION:2.0
PRODID:jazz-concerts.com
METHOD:PUBLISH
SEQUENCE:1776614048
BEGIN:VEVENT
UID:jazz-concerts.com-1-43009
DTSTAMP:20260419T175408
DTSTART:20260507T203000
DTEND:20260507T223000
SUMMARY:The Hot Sardines
LOCATION:Blue Note Tokyo 107-0062 Minato City\, Japan
DESCRIPTION:tickets: https://jazz-concerts.com/en/event/43009\n\nThe Hot Sardines\n\n
END:VEVENT
END:VCALENDAR
